BEGIN:VCALENDAR
VERSION:2.0
PRODID:-//Chartered Institute of Bankers, Ghana - ECPv6.15.11//NONSGML v1.0//EN
CALSCALE:GREGORIAN
METHOD:PUBLISH
X-WR-CALNAME:Chartered Institute of Bankers, Ghana
X-ORIGINAL-URL:https://cibgh.org
X-WR-CALDESC:Events for Chartered Institute of Bankers, Ghana
REFRESH-INTERVAL;VALUE=DURATION:PT1H
X-Robots-Tag:noindex
X-PUBLISHED-TTL:PT1H
BEGIN:VTIMEZONE
TZID:Africa/Accra
BEGIN:STANDARD
TZOFFSETFROM:+0000
TZOFFSETTO:+0000
TZNAME:GMT
DTSTART:20230101T000000
END:STANDARD
END:VTIMEZONE
BEGIN:VEVENT
DTSTART;TZID=Africa/Accra:20240716T080000
DTEND;TZID=Africa/Accra:20240930T170000
DTSTAMP:20260419T194758
CREATED:20240628T160703Z
LAST-MODIFIED:20240628T160705Z
UID:9047-1721116800-1727715600@cibgh.org
SUMMARY:ESG CERTIFICATION PROGRAMME
DESCRIPTION:CIB Ghana\, IFC and EPA ESG Certification Programme Registration Opened \nMaster Environmental\, Social & Governance Practices\n✅ Stand out in the market: Gain a recognised ESG certification\, valued by employers and clients.\n✅ Drive positive change: Equip yourself to integrate sustainability into your work and contribute to a greener future.\n✅ Expert-led learning: Benefit from 10 weeks of comprehensive training delivered by industry professionals. \nProgramme Details:\n❇ Start Date: July 16th\, 2024\n❇ Duration: 10 weeks (Flexible schedule: Twice a week\, every other week)\n❇ Time: 9am to 4pm\n❇ Venue: CIB Ghana Auditorium\, East Legon\n❇ Fee: Ghs 7\,500 \nThis programme is ideal for:\n◾ ESG Managers/Senior Sustainability Officers\n◾ Business Managers and Branch Managers\n◾ Relationship Managers\n◾ Sustainability practitioners\n◾ Anyone committed to ESG principles \nLimited Spots Available!\nRegister Now: https://lnkd.in/dcK9WtC6 \nDon’t miss this opportunity to become a sustainability champion!
URL:https://cibgh.org/events/esg-certification-programme/
LOCATION:CIB Ghana Auditorium/Microsoft Team\, Greater Accra\, Okponglo-East Legon\, Trinity Avenue.\, 00233\, Ghana
CATEGORIES:Upcoming Events
ATTACH;FMTTYPE=image/png:https://cibgh.org/wp-content/uploads/2024/06/ESG-Certification-Programme.png
ORGANIZER;CN="Mr. Patrick Baah Abankwa":MAILTO:patrick.baah@cibgh.org
END:VEVENT
BEGIN:VEVENT
DTSTART;TZID=Africa/Accra:20240919T080000
DTEND;TZID=Africa/Accra:20240920T160000
DTSTAMP:20260419T194758
CREATED:20240902T100205Z
LAST-MODIFIED:20240902T100207Z
UID:9547-1726732800-1726848000@cibgh.org
SUMMARY:Risk Management Using Artificial Intelligence
DESCRIPTION:Revolutionise Your Risk Management with AI: Join Our Exclusive Training \nAre you ready to stay ahead of the curve in risk management?\nJoin Chartered Institute of Bankers\, Ghana for our upcoming commercial training on Risk Management Using Artificial Intelligence. \nSeptember 19th and 20th\, 2024\nMedium: Blended (In-person and Virtual) \nDiscover how AI is transforming the way organizations identify\, assess\, and mitigate risks. Learn from industry experts and gain practical insights into: \n▪ Risk Identification and Assessment: Using AI to detect emerging threats and assess risks in real-time.\n▪ Predictive Analytics: Forecasting future risks and making informed strategic decisions.\n▪ Automation of Risk Mitigation: Streamlining processes and reducing human error with AI-powered tools.\n▪ Benefits and Challenges: Understanding the advantages and potential pitfalls of AI in risk management. \nDon’t miss this opportunity to elevate your risk management skills. \nRegister now: https://lnkd.in/dPxkQeQ3 \nLimited spaces available. Secure your spot today!
URL:https://cibgh.org/events/risk-management-using-artificial-intelligence/
LOCATION:CIB Ghana Auditorium/Microsoft Team\, Greater Accra\, Okponglo-East Legon\, Trinity Avenue.\, 00233\, Ghana
CATEGORIES:Upcoming Events
ATTACH;FMTTYPE=image/jpeg:https://cibgh.org/wp-content/uploads/2024/09/risk-management-AI.jpg
ORGANIZER;CN="Mr. Patrick Baah Abankwa":MAILTO:patrick.baah@cibgh.org
END:VEVENT
BEGIN:VEVENT
DTSTART;TZID=Africa/Accra:20240927T080000
DTEND;TZID=Africa/Accra:20240928T160000
DTSTAMP:20260419T194758
CREATED:20240912T161939Z
LAST-MODIFIED:20240912T162403Z
UID:9607-1727424000-1727539200@cibgh.org
SUMMARY:ORGANISING AND MANAGING MODERN BRANCH NETWORKS
DESCRIPTION:Who Should Attend? \n\nMiddle Management Staff of Rural Banks and SDIs\nSenior Managers\nBranch Managers\nOperation Managers\nCredi Managers/ Officers\nMarketing and Sales Support Staff\nRelationship Managers\n\nLimited spaces available. Secure your spot today!
URL:https://cibgh.org/events/organising-and-managing-modern-branch-networks/
LOCATION:CIB\, Ghana\, Adiebeba\, Ahodwo – Kumasi\, Adiebeba\, Ahodwo\, Kumasi\, Ghana
CATEGORIES:Upcoming Events
ATTACH;FMTTYPE=image/jpeg:https://cibgh.org/wp-content/uploads/2024/09/ORGANISING-AND-MANAGING-MODERN-BRANCH-NETWORKS.jpg
ORGANIZER;CN="Bernard Boateng":MAILTO:bernard.boateng@cibgh.org
END:VEVENT
END:VCALENDAR