BEGIN:VCALENDAR
VERSION:2.0
PRODID:-//Chartered Institute of Bankers, Ghana - ECPv6.15.11//NONSGML v1.0//EN
CALSCALE:GREGORIAN
METHOD:PUBLISH
X-ORIGINAL-URL:https://cibgh.org
X-WR-CALDESC:Events for Chartered Institute of Bankers, Ghana
REFRESH-INTERVAL;VALUE=DURATION:PT1H
X-Robots-Tag:noindex
X-PUBLISHED-TTL:PT1H
BEGIN:VTIMEZONE
TZID:Africa/Accra
BEGIN:STANDARD
TZOFFSETFROM:+0000
TZOFFSETTO:+0000
TZNAME:GMT
DTSTART:20230101T000000
END:STANDARD
END:VTIMEZONE
BEGIN:VEVENT
DTSTART;TZID=Africa/Accra:20240523T090000
DTEND;TZID=Africa/Accra:20240524T150000
DTSTAMP:20260420T010029
CREATED:20240514T092324Z
LAST-MODIFIED:20240514T092324Z
UID:8636-1716454800-1716562800@cibgh.org
SUMMARY:Customer-Centric Banking: Improving customer experiences and engagement.
DESCRIPTION:Chartered Institute of Bankers\, Ghana\, invites members and practitioners to its upcoming training programme on the topic: Customer-Centric Banking: Improving customer experiences and engagement. \nTARGET AUDIENCE \n\nTellers\nCustomer Service Representatives\nRelationship Officers/Managers\nLoan Officers\nWealth Management Advisors\nBranch Managers
URL:https://cibgh.org/events/customer-centric-banking-improving-customer-experiences-and-engagement/
LOCATION:CIB Ghana Auditorium/Microsoft Team\, Greater Accra\, Okponglo-East Legon\, Trinity Avenue.\, 00233\, Ghana
ATTACH;FMTTYPE=image/jpeg:https://cibgh.org/wp-content/uploads/2024/05/Customer-Centric-Bankingg.jpg
ORGANIZER;CN="Mr. Patrick Baah Abankwa":MAILTO:patrick.baah@cibgh.org
END:VEVENT
END:VCALENDAR