BEGIN:VCALENDAR
VERSION:2.0
PRODID:-//Chartered Institute of Bankers, Ghana - ECPv6.15.11//NONSGML v1.0//EN
CALSCALE:GREGORIAN
METHOD:PUBLISH
X-WR-CALNAME:Chartered Institute of Bankers, Ghana
X-ORIGINAL-URL:https://cibgh.org
X-WR-CALDESC:Events for Chartered Institute of Bankers, Ghana
REFRESH-INTERVAL;VALUE=DURATION:PT1H
X-Robots-Tag:noindex
X-PUBLISHED-TTL:PT1H
BEGIN:VTIMEZONE
TZID:Africa/Accra
BEGIN:STANDARD
TZOFFSETFROM:+0000
TZOFFSETTO:+0000
TZNAME:GMT
DTSTART:20240101T000000
END:STANDARD
END:VTIMEZONE
BEGIN:VEVENT
DTSTART;TZID=Africa/Accra:20250123T080000
DTEND;TZID=Africa/Accra:20250124T160000
DTSTAMP:20260419T153110
CREATED:20250114T113610Z
LAST-MODIFIED:20250114T150509Z
UID:10242-1737619200-1737734400@cibgh.org
SUMMARY:The Future of Banking: Emerging Trends and Disruptive Technologies
DESCRIPTION:Chartered Institute of Bankers\, Ghana\, is pleased to invite you to its upcoming training programme on the topic\, “The Future of Banking: Emerging Trends and Disruptive Technologies.” \nDate: Thursday-Friday\nJan 23-24\, 2025 \nVenue: CIB Ghana Auditorium and Microsoft Teams \nTime: 8am to 4pm daily \nPlease register with the link to book your seat👇🏿👇🏿 \nREGISTER HERE \nRegistration deadline: Wednesday\, January 22\, 2025. \nNB: This Training carries 5 CPD points \n#CIBGhana #Training\n#FutureBanking #Trends\n#DigitalTechnologies #FutureBanker
URL:https://cibgh.org/events/the-future-of-banking-emerging-trends-and-disruptive-technologies/
LOCATION:CIB Ghana Auditorium/Microsoft Team\, Greater Accra\, Okponglo-East Legon\, Trinity Avenue.\, 00233\, Ghana
CATEGORIES:Upcoming Events
ATTACH;FMTTYPE=image/jpeg:https://cibgh.org/wp-content/uploads/2025/01/the-future-of-banking.jpg
ORGANIZER;CN="Mr. Patrick Baah Abankwa":MAILTO:patrick.baah@cibgh.org
END:VEVENT
END:VCALENDAR