BEGIN:VCALENDAR
VERSION:2.0
PRODID:-//Chartered Institute of Bankers, Ghana - ECPv6.15.11//NONSGML v1.0//EN
CALSCALE:GREGORIAN
METHOD:PUBLISH
X-WR-CALNAME:Chartered Institute of Bankers, Ghana
X-ORIGINAL-URL:https://cibgh.org
X-WR-CALDESC:Events for Chartered Institute of Bankers, Ghana
REFRESH-INTERVAL;VALUE=DURATION:PT1H
X-Robots-Tag:noindex
X-PUBLISHED-TTL:PT1H
BEGIN:VTIMEZONE
TZID:Africa/Accra
BEGIN:STANDARD
TZOFFSETFROM:+0000
TZOFFSETTO:+0000
TZNAME:GMT
DTSTART:20220101T000000
END:STANDARD
END:VTIMEZONE
BEGIN:VEVENT
DTSTART;TZID=Africa/Accra:20230726T090000
DTEND;TZID=Africa/Accra:20230727T160000
DTSTAMP:20260422T174716
CREATED:20230707T121149Z
LAST-MODIFIED:20230707T121151Z
UID:7935-1690362000-1690473600@cibgh.org
SUMMARY:Data and Analytics Training
DESCRIPTION:Data analytics is the collection\, transformation\, and organization of data in order to draw conclusions\, make predictions\, and drive informed decision making. \nBecome the expert in running data design & handling\, data visualization and interpretation. \nLearn Data Analysis or improve your skills online today.
URL:https://cibgh.org/events/data-and-analytics-training/
LOCATION:CIBG Auditorium\, Okponglo-East Legon\, Trinity Avenue\, Accra\, 00233\, Ghana
CATEGORIES:Upcoming Events
ATTACH;FMTTYPE=image/jpeg:https://cibgh.org/wp-content/uploads/2023/07/Data-and-Analytics-Training.jpg
ORGANIZER;CN="Mr. Patrick Baah Abankwa":MAILTO:patrick.baah@cibgh.org
END:VEVENT
END:VCALENDAR